BEGIN:VCALENDAR
VERSION:2.0
PRODID:-//wp-events-plugin.com//7.2.3.1//EN
TZID:Europe/Amsterdam
X-WR-TIMEZONE:Europe/Amsterdam
BEGIN:VEVENT
UID:21@warmte-pompen.nl
DTSTART:20231106T094500Z
DTEND:20231106T173000Z
DTSTAMP:20231019T120249Z
URL:https://warmte-pompen.nl/evenementen/12561/
SUMMARY:Energeia Energy Day: De grote verbouwing
DESCRIPTION:Tijdens het middagprogramma van de Energeia Energy Day om 14.00
  uur gaan Ernst Japikse\, CEO van Ennatuurlijk\, Gerwin Verschuur\, Kernte
 amlid Buurtwarmte bij Energie Samen en Frank Agterberg\, Voorzitter van Ve
 reniging Warmtepompen onder leiding van moderator Roelof Hemmen met elkaar
  in gesprek over de warmtetransitie\, en hoe het nu verder moet.
ATTACH;FMTTYPE=image/jpeg:https://warmte-pompen.nl/wp-content/uploads/2023
 /10/Energeia-Energy-Day-2023.jpg
END:VEVENT
END:VCALENDAR