BEGIN:VCALENDAR
VERSION:2.0
PRODID:-//wp-events-plugin.com//7.2.3.1//EN
TZID:Europe/Amsterdam
X-WR-TIMEZONE:Europe/Amsterdam
BEGIN:VEVENT
UID:10@warmte-pompen.nl
DTSTART:20230608T130000Z
DTEND:20230608T190000Z
DTSTAMP:20230605T074210Z
URL:https://warmte-pompen.nl/evenementen/dag-van-de-warmtepomp-2023/
SUMMARY:Dag van de warmtepomp 2023
DESCRIPTION:Ben jij installateur\, monteur of adviseur en houd jij je bezig
  met advies\, installatie\, plaatsing en onderhoud van warmtepompen? Kom d
 an naar het kennisevenement op het gebied van warmtepompen\, dat wordt geo
 rganiseerd door Opleidingscentrum GO°.
ATTACH;FMTTYPE=image/jpeg:https://warmte-pompen.nl/wp-content/uploads/2023
 /01/iStock-957189380-scaled.jpg
LOCATION:Expertisecentrum Koudetechniek\, Aeres Tech\, Zandlaan 29\, Ede\, 
 6717 LN\, Nederland
X-APPLE-STRUCTURED-LOCATION;VALUE=URI;X-ADDRESS=Zandlaan 29\, Ede\, 6717 LN
 \, Nederland;X-APPLE-RADIUS=100;X-TITLE=Expertisecentrum Koudetechniek\, A
 eres Tech:geo:0,0
END:VEVENT
END:VCALENDAR