BEGIN:VCALENDAR
VERSION:2.0
PRODID:-//wp-events-plugin.com//7.2.3.1//EN
TZID:Europe/Amsterdam
X-WR-TIMEZONE:Europe/Amsterdam
BEGIN:VEVENT
UID:16@warmte-pompen.nl
DTSTART;VALUE=DATE:20231116
DTEND;VALUE=DATE:20231118
DTSTAMP:20230810T133916Z
URL:https://warmte-pompen.nl/evenementen/geothermal-heat-pump-days-2023-be
 rlijn/
SUMMARY:Geothermal Heat Pump Days 2023 - Berlijn
DESCRIPTION:Op 16 en 17 november a.s. organiseert EGEC de Geothermal Heat P
 ump Days 2023 in Berlijn. Hier vindt u meer informatie over het event\, ho
 e u zich kunt aanmelden en hoe u een bijdrage kunt leveren met een present
 atie van uw onderzoek of case study:
ATTACH;FMTTYPE=image/jpeg:https://warmte-pompen.nl/wp-content/uploads/2023
 /08/iStock-503874284.jpg
END:VEVENT
END:VCALENDAR