BEGIN:VCALENDAR
VERSION:2.0
PRODID:-//wp-events-plugin.com//7.2.3.1//EN
TZID:Europe/Amsterdam
X-WR-TIMEZONE:Europe/Amsterdam
BEGIN:VEVENT
UID:29@warmte-pompen.nl
DTSTART;VALUE=DATE:20250604
DTEND;VALUE=DATE:20250606
DTSTAMP:20240715T080640Z
URL:https://warmte-pompen.nl/evenementen/green-heating-solutions/
SUMMARY:Green Heating Solutions
DESCRIPTION:Green Heating Solutions verhuist in 2025 naar de Brabanthallen.
  Voorheen werd deze vakbeurs voor duurzame klimaattechnieken gehouden in E
 xpo Greater Amsterdam te Vijfhuizen\, gelijktijdig met Solar Solutions. Va
 naf 2025 krijgt de HVAC-vakbeurs een eigen plek in Den Bosch!
ATTACH;FMTTYPE=image/jpeg:https://warmte-pompen.nl/wp-content/uploads/2024
 /07/Afbeelding-Green-Heating-Solutions.jpg
LOCATION:Brabanthallen\, Diezekade 2\, Den Bosch\, 5222 AK\, Nederland
X-APPLE-STRUCTURED-LOCATION;VALUE=URI;X-ADDRESS=Diezekade 2\, Den Bosch\, 5
 222 AK\, Nederland;X-APPLE-RADIUS=100;X-TITLE=Brabanthallen:geo:0,0
END:VEVENT
END:VCALENDAR