BEGIN:VCALENDAR
VERSION:2.0
PRODID:-//wp-events-plugin.com//7.2.3.1//EN
TZID:Europe/Amsterdam
X-WR-TIMEZONE:Europe/Amsterdam
BEGIN:VEVENT
UID:13@warmte-pompen.nl
DTSTART;VALUE=DATE:20230927
DTEND;VALUE=DATE:20230929
DTSTAMP:20230629T061722Z
URL:https://warmte-pompen.nl/evenementen/heat-pump-forum-award-2023-the-he
 at-pump-accelerator-advancing-repowereu-in-a-heatbeat/
SUMMARY:Heat Pump Forum & Award 2023 - The Heat Pump Accelerator: Advancing
  REPowerEU in a HeatBeat
DESCRIPTION:Op 27 en 28 september organiseert de EHPA de jaarlijkse Heat Pu
 mp Forum & Award. Een groots evenement voor de Europese warmtepompsector\,
  waar belangrijke spelers uit de sector\, beleidsmakers en invloedrijke st
 akeholders bijeen komen.
ATTACH;FMTTYPE=image/jpeg:https://warmte-pompen.nl/wp-content/uploads/2023
 /06/iStock-1356925956-scaled.jpg
END:VEVENT
END:VCALENDAR