BEGIN:VCALENDAR
VERSION:2.0
PRODID:-//wp-events-plugin.com//7.2.3.1//EN
TZID:Europe/Amsterdam
X-WR-TIMEZONE:Europe/Amsterdam
BEGIN:VEVENT
UID:53@warmte-pompen.nl
DTSTART:20260526T100000Z
DTEND:20260529T170000Z
DTSTAMP:20260106T104403Z
URL:https://warmte-pompen.nl/evenementen/iea-heat-pump-conference-2026/
SUMMARY:IEA Heat Pump Conference 2026
DESCRIPTION:Van 26 tot en met 29 mei 2026 vindt de 15e IEA Heat Pump Confer
 ence plaats in Wenen. Tijdens de toonaangevende wetenschappelijke conferen
 tie met als thema ‘Decarbonisation through innovation’ komen experts u
 it de hele wereld om de nieuwste ontwikkelingen en vooruitgang te presente
 ren..
ATTACH;FMTTYPE=image/jpeg:https://warmte-pompen.nl/wp-content/uploads/2026
 /01/csm_HPC_Logo_breite_235b79d2ce.png
END:VEVENT
END:VCALENDAR