BEGIN:VCALENDAR
VERSION:2.0
PRODID:-//wp-events-plugin.com//7.2.3.1//EN
TZID:Europe/Amsterdam
X-WR-TIMEZONE:Europe/Amsterdam
BEGIN:VEVENT
UID:18@warmte-pompen.nl
DTSTART:20231012T120000Z
DTEND:20231012T170000Z
DTSTAMP:20230918T122239Z
URL:https://warmte-pompen.nl/evenementen/kennismiddag-warmtepompen-op-12-o
 ktober-in-den-bosch/
SUMMARY:Kennismiddag Warmtepompen op 12 oktober in Den Bosch
DESCRIPTION:Tijdens de Vakbeurs Energie vindt in de Brabanthallen op 12 okt
 ober de Kennismiddag Warmtepompen plaats. U wordt hier bijgepraat over bel
 angrijke nieuwe ontwikkelingen rond warmtepompen\, zodat u beslagen ten ij
 s komt om de juiste beslissingen te nemen.
ATTACH;FMTTYPE=image/jpeg:https://warmte-pompen.nl/wp-content/uploads/2023
 /09/Kennismiddag-Warmtepompen.jpg
END:VEVENT
END:VCALENDAR