BEGIN:VCALENDAR
VERSION:2.0
PRODID:-//wp-events-plugin.com//7.2.3.1//EN
TZID:Europe/Amsterdam
X-WR-TIMEZONE:Europe/Amsterdam
BEGIN:VEVENT
UID:1@warmte-pompen.nl
DTSTART:20230418T113000Z
DTEND:20230419T123000Z
DTSTAMP:20230412T120848Z
URL:https://warmte-pompen.nl/evenementen/markt-en-beleid/
SUMMARY:Markt en Beleid
DESCRIPTION:\n\nMarktontwikkeling o.b.v. energie-\, klimaat- en bouwbeleid\
 n\n\n\n\n\nWij monitoren de markt- en techniekontwikkelingen en voeren een
  actieve lobby voor marktomstandigheden. Het doel is een verantwoorde groe
 i van de Nederlandse markt te bevorderen. Dit betekent dat we zorgen voor 
 een comfortabel groeitempo waarbij zowel de verwarming als de koeling van 
 de gebouwde omgeving verduurzaamt.\n\nOnze leden werken o.a. aan de vervan
 ging van aardgasgestookte cv-installaties voor duurzame omgevingsenergie m
 et zowel collectieve als individuele warmtepompsystemen.\n\nOnze leden en 
 hun klanten adviseren\, ontwerpen\, installeren\, onderhouden en exploiter
 en kwalitatief hoogwaardige installaties voor de levering van energiezuini
 ge\, comfortabele en veilige verwarming en koeling.\n\n&nbsp\;\n\n\n
ATTACH;FMTTYPE=image/jpeg:https://warmte-pompen.nl/wp-content/uploads/2022
 /09/Beeld-Congres-Toekomst-van-de-Warmtepomp-scaled.jpg
LOCATION:Vereniging Warmtepompen\, Gooimeer 4-15\, Naarden\, Noord-Holland\
 , 1410 AC\, Nederland
X-APPLE-STRUCTURED-LOCATION;VALUE=URI;X-ADDRESS=Gooimeer 4-15\, Naarden\, N
 oord-Holland\, 1410 AC\, Nederland;X-APPLE-RADIUS=100;X-TITLE=Vereniging W
 armtepompen:geo:0,0
END:VEVENT
END:VCALENDAR