BEGIN:VCALENDAR
VERSION:2.0
PRODID:-//wp-events-plugin.com//7.2.3.1//EN
TZID:Europe/Amsterdam
X-WR-TIMEZONE:Europe/Amsterdam
BEGIN:VEVENT
UID:56@warmte-pompen.nl
DTSTART:20260919T000000Z
DTEND:20260919T000000Z
DTSTAMP:20260330T085432Z
URL:https://warmte-pompen.nl/evenementen/zet-uw-warmtepomp-project-in-de-s
 potlights-open-energiedag-2026/
SUMMARY:Zet uw warmtepomp project in de spotlights | Open Energiedag 2026
DESCRIPTION:De Open Energiedag vindt in 2026 plaats op zaterdag 19 septembe
 r. Tijdens deze landelijke dag openen duurzame energieprojecten in heel Ne
 derland hun deuren voor het publiek om te laten zien hoe schone energie wo
 rdt opgewekt\, opgeslagen en toegepast. We roepen locaties met duurzame en
 ergieprojecten op om mee te doen en bezoekers te inspireren.
ATTACH;FMTTYPE=image/jpeg:https://warmte-pompen.nl/wp-content/uploads/2026
 /03/banner-open-energie-dag.png
END:VEVENT
END:VCALENDAR